BEGIN:VCALENDAR
VERSION:2.0
PRODID:-//wp-events-plugin.com//7.2.3.1//EN
TZID:America/New_York
X-WR-TIMEZONE:America/New_York
BEGIN:VEVENT
UID:1609@shaareytikvah.org
DTSTART;TZID=America/New_York:20260605T180000
DTEND;TZID=America/New_York:20260605T210000
DTSTAMP:20260423T193950Z
URL:https://www.shaareytikvah.org/events/4th-annual-celebration-of-communi
 ty/
SUMMARY:4th Annual Celebration of Community
DESCRIPTION:Please join us on Friday evening\, June 5 to celebrate our incr
 edible Shaarey Tikvah community!\nShabbat services at 6 pm followed by a S
 habbat dinner.&nbsp\; Members only. $40/adult\, $25/child\, $120 family ma
 x.\nREGISTRATION REQUIRED HERE by May 29.\nwww.shaareytikvah.org/donate\nO
 pportunities to sponsor this event are available.\nFor more information\, 
 please contact Alyson Fieldman&nbsp\;
ATTACH;FMTTYPE=image/jpeg:https://www.shaareytikvah.org/wp-content/uploads
 /2026/04/Celebration-of-Community-Banner-1.png
CATEGORIES:Featured
END:VEVENT
BEGIN:VTIMEZONE
TZID:America/New_York
X-LIC-LOCATION:America/New_York
BEGIN:DAYLIGHT
DTSTART:20260308T030000
TZOFFSETFROM:-0500
TZOFFSETTO:-0400
TZNAME:EDT
END:DAYLIGHT
END:VTIMEZONE
END:VCALENDAR