BEGIN:VCALENDAR
VERSION:2.0
PRODID:-//wp-events-plugin.com//7.2.3.1//EN
TZID:America/New_York
X-WR-TIMEZONE:America/New_York
BEGIN:VEVENT
UID:1608@shaareytikvah.org
DTSTART;TZID=America/New_York:20260524T100000
DTEND;TZID=America/New_York:20260524T110000
DTSTAMP:20260423T144710Z
URL:https://www.shaareytikvah.org/events/mens-club-memorial-day-commemorat
 ion-of-cst-veterans/
SUMMARY:Men's Club Memorial Day Commemoration of CST Veterans
DESCRIPTION:We will celebrate our Shaarey Tikvah Veterans* with a remembran
 ce to those who have served and honor to the memories of all those who hav
 e passed.&nbsp\;\n*If you have a loved one who was a veteran\, please cont
 act the office so we can be sure to include them!\nAll are invited to atte
 nd | Families are welcome!&nbsp\;|&nbsp\;Flags will be supplied.\nZion Mem
 orial Park\, 5461 Northfield Road\, Bedford Heights
ATTACH;FMTTYPE=image/jpeg:https://www.shaareytikvah.org/wp-content/uploads
 /2022/04/Memorial-Day-Flags.png
CATEGORIES:Featured
END:VEVENT
BEGIN:VTIMEZONE
TZID:America/New_York
X-LIC-LOCATION:America/New_York
BEGIN:DAYLIGHT
DTSTART:20260308T030000
TZOFFSETFROM:-0500
TZOFFSETTO:-0400
TZNAME:EDT
END:DAYLIGHT
END:VTIMEZONE
END:VCALENDAR