BEGIN:VCALENDAR
VERSION:2.0
PRODID:-//wp-events-plugin.com//7.2.3.1//EN
TZID:America/New_York
X-WR-TIMEZONE:America/New_York
BEGIN:VEVENT
UID:177@shaareytikvah.org
DTSTART;TZID=America/New_York:20210821T204000
DTEND;TZID=America/New_York:20210821T204000
DTSTAMP:20210805T202411Z
URL:https://www.shaareytikvah.org/events/outdoor-havdalah/
SUMMARY:Outdoor Havdalah
DESCRIPTION:Join us for Havdalah this Elul!\nMeet at Ed &amp\; Janet Kneite
 l's home at 8:40 pm.\nJoin your CST family for a live\, in-person ceremony
  in a congregant's backyard. Masks and distancing required.\nFind meaning 
 and spirituality in the weeks leading up to the High Holidays.&nbsp\; Reco
 nnect with friends.\nPlease RSVP to Irit at 216-856-5555 or gingit4@aol.co
 m by Friday at 12pm.\nThe address will be provided via confirmation email 
 before Shabbat.\n&nbsp\;
ATTACH;FMTTYPE=image/jpeg:https://www.shaareytikvah.org/wp-content/uploads
 /2021/08/Havdalah-image-1.jpg
CATEGORIES:Featured
END:VEVENT
BEGIN:VTIMEZONE
TZID:America/New_York
X-LIC-LOCATION:America/New_York
BEGIN:DAYLIGHT
DTSTART:20210314T030000
TZOFFSETFROM:-0500
TZOFFSETTO:-0400
TZNAME:EDT
END:DAYLIGHT
END:VTIMEZONE
END:VCALENDAR