BEGIN:VCALENDAR
VERSION:2.0
PRODID:-//wp-events-plugin.com//7.2.3.1//EN
TZID:America/New_York
X-WR-TIMEZONE:America/New_York
BEGIN:VEVENT
UID:865@shaareytikvah.org
DTSTART;TZID=America/New_York:20230114T163000
DTEND;TZID=America/New_York:20230114T180000
DTSTAMP:20221212T215254Z
URL:https://www.shaareytikvah.org/events/shabbat-shiur-with-rabbi-roland-4
 /
SUMMARY:Shabbat Shiur with Rabbi Roland
DESCRIPTION:NEW!&nbsp\; Join Rabbi Roland for a monthly Saturday afternoon 
 of learning\, followed by a light seudah shlishit.\nFuture Dates:&nbsp\; M
 arch 11\, April 15\, May 13\, June 10
CATEGORIES:Featured
END:VEVENT
BEGIN:VTIMEZONE
TZID:America/New_York
X-LIC-LOCATION:America/New_York
BEGIN:STANDARD
DTSTART:20221106T010000
TZOFFSETFROM:-0400
TZOFFSETTO:-0500
TZNAME:EST
END:STANDARD
END:VTIMEZONE
END:VCALENDAR