BEGIN:VCALENDAR
VERSION:2.0
PRODID:-//wp-events-plugin.com//7.2.3.1//EN
TZID:America/New_York
X-WR-TIMEZONE:America/New_York
BEGIN:VEVENT
UID:1604@shaareytikvah.org
DTSTART;TZID=America/New_York:20260420T190000
DTEND;TZID=America/New_York:20260420T200000
DTSTAMP:20260330T172140Z
URL:https://www.shaareytikvah.org/events/yom-hazikaron/
SUMMARY:Yom Hazikaron
DESCRIPTION:Join the Community for Yom Hazikaron at Shaarey Tikvah.\nUnite 
 with the Cleveland community to commemorate the legacy and sacrifice of Is
 rael's fallen soldiers and victims of terror.\nRegister HERE.&nbsp\;
ATTACH;FMTTYPE=image/jpeg:https://www.shaareytikvah.org/wp-content/uploads
 /2026/03/Yom-Hazikaron.png
CATEGORIES:Featured
END:VEVENT
BEGIN:VTIMEZONE
TZID:America/New_York
X-LIC-LOCATION:America/New_York
BEGIN:DAYLIGHT
DTSTART:20260308T030000
TZOFFSETFROM:-0500
TZOFFSETTO:-0400
TZNAME:EDT
END:DAYLIGHT
END:VTIMEZONE
END:VCALENDAR